BEGIN:VCALENDAR
VERSION:2.0
X-WR-TIMEZONE:Europe/Paris
CALSCALE:GREGORIAN
PRODID:-//SPIP/Plugin Agenda//NONSGML v1.0//FR


X-WR-CALNAME;VALUE=TEXT:Collège Jean Jaurès -- Agenda
X-WR-RELCALID:https://college-jeanjaures-stnicolasdupelem.ac-rennes.fr


BEGIN:VEVENT
SUMMARY:Séjour d'integration des 6e à Trémargat
UID:evenement1 @ https://college-jeanjaures-stnicolasdupelem.ac-rennes.fr
DTSTAMP:20240515T123128Z
DTSTART:20230928T080000Z
DTEND:20230929T163000Z
CREATED:20240515T123128Z
LAST-MODIFIED:20240515T143128Z 
LOCATION:Base nautique de Trémargat, Pen Ar C'hoat\, 22110 Trémargat 
DESCRIPTION:Séjour d’intégration des 6ème à Trémargat
CATEGORIES:Séjour d'integration des 6e à Trémargat
URL:https://college-jeanjaures-stnicolasdupelem.ac-rennes.fr/spip.php?article84&id_evenement=1

STATUS:CONFIRMED
END:VEVENT
END:VCALENDAR
